BEGIN:VCALENDAR
VERSION:2.0
PRODID:-//Liceul Teoretic &quot;Avram Iancu&quot; Brad - ECPv6.15.18//NONSGML v1.0//EN
CALSCALE:GREGORIAN
METHOD:PUBLISH
X-WR-CALNAME:Liceul Teoretic &quot;Avram Iancu&quot; Brad
X-ORIGINAL-URL:https://cnai-brad.ro
X-WR-CALDESC:Evenimente pentru Liceul Teoretic &quot;Avram Iancu&quot; Brad
REFRESH-INTERVAL;VALUE=DURATION:PT1H
X-Robots-Tag:noindex
X-PUBLISHED-TTL:PT1H
BEGIN:VTIMEZONE
TZID:UTC
BEGIN:STANDARD
TZOFFSETFROM:+0000
TZOFFSETTO:+0000
TZNAME:UTC
DTSTART:20240101T000000
END:STANDARD
END:VTIMEZONE
BEGIN:VEVENT
DTSTART;TZID=UTC:20250620T090000
DTEND;TZID=UTC:20250620T110000
DTSTAMP:20260422T091144
CREATED:20250626T120106Z
LAST-MODIFIED:20250626T120107Z
UID:14225-1750410000-1750417200@cnai-brad.ro
SUMMARY:Festivitatea de Premiere
DESCRIPTION:Festivitatea de Premiere – Iunie 2025 \n\n\n\nVineri\, 20 iunie\, începând cu ora 09:00\, vă așteptăm în curtea Liceului Teoretic „Avram Iancu” Brad pentru a încheia împreună un nou an școlar! Vom premia munca\, efortul și rezultatele elevilor din toate clasele\, într-un eveniment plin de emoție și bucurie!  Vă invităm cu drag să fiți alături de noi!
URL:https://cnai-brad.ro/event/festivitatea-de-premiere/
LOCATION:Liceul Teoretic „Avram Iancu” Brad\, str. Liceului\, nr. 18\, Brad\, Hunedoara\, 337401\, Romania
CATEGORIES:Evenimente
ATTACH;FMTTYPE=image/jpeg:https://cnai-brad.ro/wp-content/uploads/2025/06/Facebook-flyer.jpg
END:VEVENT
BEGIN:VEVENT
DTSTART;TZID=UTC:20250619T170000
DTEND;TZID=UTC:20250619T180000
DTSTAMP:20260422T091144
CREATED:20250626T115626Z
LAST-MODIFIED:20250626T115718Z
UID:14220-1750352400-1750356000@cnai-brad.ro
SUMMARY:Festivitatea de Defilare
DESCRIPTION:Festivitatea de Defilare a absolvenților Liceului Teoretic „Avram Iancu”\, Brad\, promoția 2024-2025. \n\n\n\nAstăzi\, începând cu ora 17:00\, în incinta Liceului Teoretic „Avram Iancu” Brad\, elevii claselor a XII-a vor defila cu emoție și mândrie\, marcând sfârșitul anilor de liceu. \n\n\n\nUn moment simbolic\, plin de aplauze\, zâmbete și amintiri de neuitat!  \n\n\n\nVă invităm să fim împreună alături de ei în această zi specială! \n\n\n\nFelicitări\, dragi absolvenți!
URL:https://cnai-brad.ro/event/festivitatea-de-defilare/
LOCATION:Liceul Teoretic „Avram Iancu” Brad\, str. Liceului\, nr. 18\, Brad\, Hunedoara\, 337401\, Romania
CATEGORIES:Evenimente
ATTACH;FMTTYPE=image/jpeg:https://cnai-brad.ro/wp-content/uploads/2025/06/Facebook-flyer-DEFILARE.jpg
END:VEVENT
END:VCALENDAR